Workbook

Sheet ★様式説明
A3: 通所型短期集中サービスの請求書類について
B5: 様式の説明
B8: ①業務実績明細書 | C8: ・・・ | D8: ●実施場所数１～１０箇所に対応しています。
B9: （１～10箇所目）
D10: ●１箇所につき１枚の明細書を入力してください。
D11: ※該当のない明細書(例：１箇所のみ実施の場合の２箇所目以降のシート)には入力も印刷も不要
B14: ②請求書 | C14: ・・・ | D14: ●①業務実績明細書（１～１０箇所目）に入力された内容をまとめて集計する計算式を設定しています。
D16: ●実施箇所が複数で、①業務実績明細書が複数枚になる場合も、③請求書の提出は１枚で構いません。
B19: 各様式の提出枚数
B21: ●１箇所で実施の場合
B31: ●２箇所以上で実施の場合

Sheet ②請求書
A2: 天草市通所型短期集中サービス委託料請求書
I4: 令和６年５月１日 | L4: ← | M4: 請求書を実際に提出する日付を入力します。
A5: 天草市長 様 | M5: 例えば、令和６年５月に書類を提出する場合は、５月１日～１０日となります。
E7: 所 在 地
E8: 商号又は名称
E9: 代表者職氏名
A12: 天草市通所型短期集中サービス事業業務委託契約書第４条第２項の規定に基づき、
B13: 下記のとおり請求します。
D15: ="請求金額 金 "&TEXT(SUM(I18:I21),"#,##0"&" 円") -> 請求金額 金 78,080 円 | L15: ← | M15: 「①業務実績明細書」の入力内容を自動集計します。
M16: ※自動集計に誤りが無いか確認してください。
B17: （内訳）
B18: ・基本委託料 3,280円 × | F18: ='①業務実績明細書（１箇所目）'!F48+'① (２箇所目)'!F48+'① (３箇所目)'!F48+'① (４箇所目) '!F48+'① (５箇所目)'!F48+'①(６箇所目)'!F48+'① (７箇所目) '!F48+'① (８箇所目)'!F48+'① (９箇所目)'!F48+'① (１０箇所目)'!F48 -> 11 | G18: 件 | H18: ＝ | I18: =3280*F18 -> 36080 | J18: 円 | L18: ← | M18: 「①業務実績明細書」の内容を集計してください。
B19: ・訪問ｱｾｽﾒﾝﾄ加算 3,000円 × | F19: =COUNTA('①業務実績明細書（１箇所目）'!H8:H47)+COUNTA('① (２箇所目)'!H8:H47)+COUNTA('① (３箇所目)'!H8:H47)+COUNTA('① (４箇所目) '!H8:H47)+COUNTA('① (５箇所目)'!H8:H47)+COUNTA('①(６箇所目)'!H8:H47)+COUNTA('① (８箇所目)'!H8:H47)+COUNTA('① (８箇所目)'!H8:H47)+COUNTA('① (９箇所目)'!H8:H47)+COUNTA('① (１０箇所目)'!H8:H47) -> 2 | G19: 件 | H19: ＝ | I19: =3000*F19 -> 6000 | J19: 円
B20: ・自立化加算 6,000円 × | F20: =COUNTA('①業務実績明細書（１箇所目）'!I8:I47)+COUNTA('① (２箇所目)'!I8:I47)+COUNTA('① (３箇所目)'!I8:I47)+COUNTA('① (４箇所目) '!I8:I47)+COUNTA('① (５箇所目)'!I8:I47)+COUNTA('①(６箇所目)'!I8:I47)+COUNTA('① (８箇所目)'!I8:I47)+COUNTA('① (８箇所目)'!I8:I47)+COUNTA('① (９箇所目)'!I8:I47)+COUNTA('① (１０箇所目)'!I8:I47) -> 1 | G20: 件 | H20: ＝ | I20: =6000*F20 -> 6000 | J20: 円 | R20: {=COUNT('①業務実績明細書（１箇所目）'!H8:H47+'① (２箇所目)'!H8:H47+'① (３箇所目)'!H8:H47+'① (４箇所目) '!H8:H47+'① (５箇所目)'!H8:H47+'①(６箇所目)'!H8:H47+'① (８箇所目)'!H8:H47+'① (８箇所目)'!H8:H47+'① (９箇所目)'!H8:H47+'① (１０箇所目)'!H8:H47)} -> 40
B21: ・遠隔地実施加算 7,500円 × | F21: ='①業務実績明細書（１箇所目）'!H5+'① (２箇所目)'!H5+'① (３箇所目)'!H5+'① (４箇所目) '!H5+'① (５箇所目)'!H5+'①(６箇所目)'!H5+'① (７箇所目) '!H5+'① (８箇所目)'!H5+'① (９箇所目)'!H5+'① (１０箇所目)'!H5 -> 4 | G21: 回 | H21: ＝ | I21: =7500*F21 -> 30000 | J21: 円
A22: 口座振込先
A23: 金融機関名 | L23: ← ○○○○銀行 ○○○支店
A24: 預金種類 | L24: ← 普通 または 当座
A25: 口座番号 | L25: ← ７ケタ数字
A26: フリガナ | L26: ← 口座名義のカナ
A27: 口座名義 | L27: ← 口座名義の漢字

Sheet ①業務実績明細書（１箇所目）
A1: 通所型短期集中サービス業務実績明細書 | M1: ※この「実績明細書」を入力すると、②実績報告③請求書の集計がされます。
A3: （事業所名） | H3: （開催場所）
A5: （遠隔地実施加算） | C5: 7500 | D5: × | F5: （ 実施回数 | H5: 4 | I5: ） ＝ | J5: =C5*H5 -> 30000
A7: No | B7: 被保険者番号 | C7: カナ氏名 | D7: 提供年月 | F7: 回数 （件数） | G7: 基本 委託料 | H7: 訪問ｱｾｽ ﾒﾝﾄ加算 | I7: 自立化 加算 | J7: 委託金額 | K7: 備考
A8: 1 | B8: 123456700 | C8: カイゴタロウ | D8: 6 | E8: 4 | F8: 4 | G8: =IF(F8="","",F8*3280) -> 13120 | J8: =IF(F8="","",SUM(G8:I8)) -> 13120 | K8: ４月目 | M8: ※入力箇所･･･被保険者番号、カナ氏名、負担割合、提供年月、回数、備考
A9: 2 | B9: 234567800 | C9: カイゴハナコ | D9: 6 | E9: 4 | F9: 2 | G9: =IF(F9="","",F9*3280) -> 6560 | H9: 3000 | J9: =IF(F9="","",SUM(G9:I9)) -> 9560 | K9: １月目 | M9: 負担割合を入力すると、１回あたりの単価が表示されます。
A10: 3 | B10: 345678900 | C10: カイゴジロウ | D10: 6 | E10: 4 | F10: 5 | G10: =IF(F10="","",F10*3280) -> 16400 | H10: 3000 | I10: 6000 | J10: =IF(F10="","",SUM(G10:I10)) -> 25400 | K10: 最終月 | M10: 回数（件数）を入力すると、委託金額が計算されます。
A11: 4 | G11: =IF(F11="","",F11*3280) | J11: =IF(F11="","",SUM(G11:I11))
A12: 5 | G12: =IF(F12="","",F12*3280) | J12: =IF(F12="","",SUM(G12:I12)) | M12: ※明細欄には、月遅れ請求分も含めて入力します。
A13: 6 | G13: =IF(F13="","",F13*3280) | J13: =IF(F13="","",SUM(G13:I13)) | M13: 旧二次予防事業では月遅れ分は、別の請求書で提出としておりましたが、
A14: 7 | G14: =IF(F14="","",F14*3280) | J14: =IF(F14="","",SUM(G14:I14)) | M14: 当事業では月遅れも一緒にしていただいてかまいません。
A15: 8 | G15: =IF(F15="","",F15*3280) | J15: =IF(F15="","",SUM(G15:I15))
A16: 9 | G16: =IF(F16="","",F16*3280) | J16: =IF(F16="","",SUM(G16:I16))
A17: 10 | G17: =IF(F17="","",F17*3280) | J17: =IF(F17="","",SUM(G17:I17))
A18: 11 | G18: =IF(F18="","",F18*3280) | J18: =IF(F18="","",SUM(G18:I18))
A19: 12 | G19: =IF(F19="","",F19*3280) | J19: =IF(F19="","",SUM(G19:I19))
A20: 13 | G20: =IF(F20="","",F20*3280) | J20: =IF(F20="","",SUM(G20:I20))
A21: 14 | G21: =IF(F21="","",F21*3280) | J21: =IF(F21="","",SUM(G21:I21))
A22: 15 | G22: =IF(F22="","",F22*3280) | J22: =IF(F22="","",SUM(G22:I22))
A23: 16 | G23: =IF(F23="","",F23*3280) | J23: =IF(F23="","",SUM(G23:I23))
A24: 17 | G24: =IF(F24="","",F24*3280) | J24: =IF(F24="","",SUM(G24:I24))
A25: 18 | G25: =IF(F25="","",F25*3280) | J25: =IF(F25="","",SUM(G25:I25))
A26: 19 | G26: =IF(F26="","",F26*3280) | J26: =IF(F26="","",SUM(G26:I26))
... A47: 40 | G47: =IF(F47="","",F47*3280) | J47: =IF(F47="","",SUM(G47:I47))
C48: 計 | F48: =SUM(F8:F47) -> 11 | G48: =SUM(G8:G47) -> 36080 | H48: =SUM(H8:H47) -> 6000 | I48: =SUM(I8:I47) -> 6000 | J48: =SUM(J8:J47) -> 48080

Sheet ① (２箇所目)
A1: 通所型短期集中サービス業務実績明細書 | M1: ※この「実績明細書」を入力すると、②実績報告③請求書の集計がされます。
A3: （事業所名） | C3: ='①業務実績明細書（１箇所目）'!C3:G3 -> 0 | H3: （開催場所） | I3: ='①業務実績明細書（１箇所目）'!I3:K3 -> 0
A5: （遠隔地実施加算） | C5: 7500 | D5: × | F5: （ 実施回数 | H5: 0 | I5: ） ＝ | J5: =C5*H5 -> 0
A7: No | B7: 被保険者番号 | C7: カナ氏名 | D7: 提供年月 | F7: 回数 （件数） | G7: 基本 委託料 | H7: 訪問ｱｾｽ ﾒﾝﾄ加算 | I7: 自立化 加算 | J7: 委託金額 | K7: 備考
A8: 1 | G8: =IF(F8="","",F8*3280) | J8: =IF(F8="","",SUM(G8:I8)) | M8: ※入力箇所･･･被保険者番号、カナ氏名、負担割合、提供年月、回数、備考
A9: 2 | G9: =IF(F9="","",F9*3280) | M9: 負担割合を入力すると、１回あたりの単価が表示されます。
A10: 3 | G10: =IF(F10="","",F10*3280) | M10: 回数（件数）を入力すると、委託金額が計算されます。
A11: 4 | G11: =IF(F11="","",F11*3280) | J11: =IF(F11="","",SUM(G11:I11)) | K11: =IF(SUM(F11:J11)=0,"",SUM(F11:J11))
A12: 5 | G12: =IF(F12="","",F12*3280) | J12: =IF(F12="","",SUM(G12:I12)) | K12: =IF(SUM(F12:J12)=0,"",SUM(F12:J12)) | M12: ※明細欄には、月遅れ請求分も含めて入力します。
A13: 6 | G13: =IF(F13="","",F13*3280) | J13: =IF(F13="","",SUM(G13:I13)) | K13: =IF(SUM(F13:J13)=0,"",SUM(F13:J13)) | M13: 旧二次予防事業では月遅れ分は、別の請求書で提出としておりましたが、
A14: 7 | G14: =IF(F14="","",F14*3280) | J14: =IF(F14="","",SUM(G14:I14)) | K14: =IF(SUM(F14:J14)=0,"",SUM(F14:J14)) | M14: 当事業では月遅れも一緒にしていただいてかまいません。
A15: 8 | G15: =IF(F15="","",F15*3280) | J15: =IF(F15="","",SUM(G15:I15)) | K15: =IF(SUM(F15:J15)=0,"",SUM(F15:J15))
A16: 9 | G16: =IF(F16="","",F16*3280) | J16: =IF(F16="","",SUM(G16:I16)) | K16: =IF(SUM(F16:J16)=0,"",SUM(F16:J16))
A17: 10 | G17: =IF(F17="","",F17*3280) | J17: =IF(F17="","",SUM(G17:I17)) | K17: =IF(SUM(F17:J17)=0,"",SUM(F17:J17))
A18: 11 | G18: =IF(F18="","",F18*3280) | J18: =IF(F18="","",SUM(G18:I18)) | K18: =IF(SUM(F18:J18)=0,"",SUM(F18:J18))
A19: 12 | G19: =IF(F19="","",F19*3280) | J19: =IF(F19="","",SUM(G19:I19)) | K19: =IF(SUM(F19:J19)=0,"",SUM(F19:J19))
A20: 13 | G20: =IF(F20="","",F20*3280) | J20: =IF(F20="","",SUM(G20:I20)) | K20: =IF(SUM(F20:J20)=0,"",SUM(F20:J20))
A21: 14 | G21: =IF(F21="","",F21*3280) | J21: =IF(F21="","",SUM(G21:I21)) | K21: =IF(SUM(F21:J21)=0,"",SUM(F21:J21))
A22: 15 | G22: =IF(F22="","",F22*3280) | J22: =IF(F22="","",SUM(G22:I22)) | K22: =IF(SUM(F22:J22)=0,"",SUM(F22:J22))
A23: 16 | G23: =IF(F23="","",F23*3280) | J23: =IF(F23="","",SUM(G23:I23)) | K23: =IF(SUM(F23:J23)=0,"",SUM(F23:J23))
A24: 17 | G24: =IF(F24="","",F24*3280) | J24: =IF(F24="","",SUM(G24:I24)) | K24: =IF(SUM(F24:J24)=0,"",SUM(F24:J24))
A25: 18 | G25: =IF(F25="","",F25*3280) | J25: =IF(F25="","",SUM(G25:I25)) | K25: =IF(SUM(F25:J25)=0,"",SUM(F25:J25))
A26: 19 | G26: =IF(F26="","",F26*3280) | J26: =IF(F26="","",SUM(G26:I26)) | K26: =IF(SUM(F26:J26)=0,"",SUM(F26:J26))
... A47: 40 | G47: =IF(F47="","",F47*3280) | J47: =IF(F47="","",SUM(G47:I47)) | K47: =IF(SUM(F47:J47)=0,"",SUM(F47:J47))
C48: 計 | F48: =SUM(F8:F47) -> 0 | G48: =SUM(G8:G47) -> 0 | H48: =SUM(H8:H47) -> 0 | I48: =SUM(I8:I47) -> 0 | J48: =SUM(J8:J47) -> 0

Sheet ① (３箇所目)
A1: 通所型短期集中サービス業務実績明細書 | M1: ※この「実績明細書」を入力すると、②実績報告③請求書の集計がされます。
A3: （事業所名） | C3: ='①業務実績明細書（１箇所目）'!C3:G3 -> 0 | H3: （開催場所） | I3: ='①業務実績明細書（１箇所目）'!I3:K3 -> 0
A5: （遠隔地実施加算） | C5: 7500 | D5: × | F5: （ 実施回数 | H5: 0 | I5: ） ＝ | J5: =C5*H5 -> 0
A7: No | B7: 被保険者番号 | C7: カナ氏名 | D7: 提供年月 | F7: 回数 （件数） | G7: 基本 委託料 | H7: 訪問ｱｾｽ ﾒﾝﾄ加算 | I7: 自立化 加算 | J7: 委託金額 | K7: 備考
A8: 1 | G8: =IF(F8="","",F8*3280) | J8: =IF(F8="","",SUM(G8:I8)) | M8: ※入力箇所･･･被保険者番号、カナ氏名、負担割合、提供年月、回数、備考
A9: 2 | G9: =IF(F9="","",F9*3280) | M9: 負担割合を入力すると、１回あたりの単価が表示されます。
A10: 3 | G10: =IF(F10="","",F10*3280) | M10: 回数（件数）を入力すると、委託金額が計算されます。
A11: 4 | G11: =IF(F11="","",F11*3280) | J11: =IF(F11="","",SUM(G11:I11)) | K11: =IF(SUM(F11:J11)=0,"",SUM(F11:J11))
A12: 5 | G12: =IF(F12="","",F12*3280) | J12: =IF(F12="","",SUM(G12:I12)) | K12: =IF(SUM(F12:J12)=0,"",SUM(F12:J12)) | M12: ※明細欄には、月遅れ請求分も含めて入力します。
A13: 6 | G13: =IF(F13="","",F13*3280) | J13: =IF(F13="","",SUM(G13:I13)) | K13: =IF(SUM(F13:J13)=0,"",SUM(F13:J13)) | M13: 旧二次予防事業では月遅れ分は、別の請求書で提出としておりましたが、
A14: 7 | G14: =IF(F14="","",F14*3280) | J14: =IF(F14="","",SUM(G14:I14)) | K14: =IF(SUM(F14:J14)=0,"",SUM(F14:J14)) | M14: 当事業では月遅れも一緒にしていただいてかまいません。
A15: 8 | G15: =IF(F15="","",F15*3280) | J15: =IF(F15="","",SUM(G15:I15)) | K15: =IF(SUM(F15:J15)=0,"",SUM(F15:J15))
A16: 9 | G16: =IF(F16="","",F16*3280) | J16: =IF(F16="","",SUM(G16:I16)) | K16: =IF(SUM(F16:J16)=0,"",SUM(F16:J16))
A17: 10 | G17: =IF(F17="","",F17*3280) | J17: =IF(F17="","",SUM(G17:I17)) | K17: =IF(SUM(F17:J17)=0,"",SUM(F17:J17))
A18: 11 | G18: =IF(F18="","",F18*3280) | J18: =IF(F18="","",SUM(G18:I18)) | K18: =IF(SUM(F18:J18)=0,"",SUM(F18:J18))
A19: 12 | G19: =IF(F19="","",F19*3280) | J19: =IF(F19="","",SUM(G19:I19)) | K19: =IF(SUM(F19:J19)=0,"",SUM(F19:J19))
A20: 13 | G20: =IF(F20="","",F20*3280) | J20: =IF(F20="","",SUM(G20:I20)) | K20: =IF(SUM(F20:J20)=0,"",SUM(F20:J20))
A21: 14 | G21: =IF(F21="","",F21*3280) | J21: =IF(F21="","",SUM(G21:I21)) | K21: =IF(SUM(F21:J21)=0,"",SUM(F21:J21))
A22: 15 | G22: =IF(F22="","",F22*3280) | J22: =IF(F22="","",SUM(G22:I22)) | K22: =IF(SUM(F22:J22)=0,"",SUM(F22:J22))
A23: 16 | G23: =IF(F23="","",F23*3280) | J23: =IF(F23="","",SUM(G23:I23)) | K23: =IF(SUM(F23:J23)=0,"",SUM(F23:J23))
A24: 17 | G24: =IF(F24="","",F24*3280) | J24: =IF(F24="","",SUM(G24:I24)) | K24: =IF(SUM(F24:J24)=0,"",SUM(F24:J24))
A25: 18 | G25: =IF(F25="","",F25*3280) | J25: =IF(F25="","",SUM(G25:I25)) | K25: =IF(SUM(F25:J25)=0,"",SUM(F25:J25))
A26: 19 | G26: =IF(F26="","",F26*3280) | J26: =IF(F26="","",SUM(G26:I26)) | K26: =IF(SUM(F26:J26)=0,"",SUM(F26:J26))
... A47: 40 | G47: =IF(F47="","",F47*3280) | J47: =IF(F47="","",SUM(G47:I47)) | K47: =IF(SUM(F47:J47)=0,"",SUM(F47:J47))
C48: 計 | F48: =SUM(F8:F47) -> 0 | G48: =SUM(G8:G47) -> 0 | H48: =SUM(H8:H47) -> 0 | I48: =SUM(I8:I47) -> 0 | J48: =SUM(J8:J47) -> 0

Sheet ① (４箇所目) 
A1: 通所型短期集中サービス業務実績明細書 | M1: ※この「実績明細書」を入力すると、②実績報告③請求書の集計がされます。
A3: （事業所名） | C3: ='①業務実績明細書（１箇所目）'!C3:G3 -> 0 | H3: （開催場所） | I3: ='①業務実績明細書（１箇所目）'!I3:K3 -> 0
A5: （遠隔地実施加算） | C5: 7500 | D5: × | F5: （ 実施回数 | H5: 0 | I5: ） ＝ | J5: =C5*H5 -> 0
A7: No | B7: 被保険者番号 | C7: カナ氏名 | D7: 提供年月 | F7: 回数 （件数） | G7: 基本 委託料 | H7: 訪問ｱｾｽ ﾒﾝﾄ加算 | I7: 自立化 加算 | J7: 委託金額 | K7: 備考
A8: 1 | G8: =IF(F8="","",F8*3280) | J8: =IF(F8="","",SUM(G8:I8)) | M8: ※入力箇所･･･被保険者番号、カナ氏名、負担割合、提供年月、回数、備考
A9: 2 | G9: =IF(F9="","",F9*3280) | M9: 負担割合を入力すると、１回あたりの単価が表示されます。
A10: 3 | G10: =IF(F10="","",F10*3280) | M10: 回数（件数）を入力すると、委託金額が計算されます。
A11: 4 | G11: =IF(F11="","",F11*3280) | J11: =IF(F11="","",SUM(G11:I11)) | K11: =IF(SUM(F11:J11)=0,"",SUM(F11:J11))
A12: 5 | G12: =IF(F12="","",F12*3280) | J12: =IF(F12="","",SUM(G12:I12)) | K12: =IF(SUM(F12:J12)=0,"",SUM(F12:J12)) | M12: ※明細欄には、月遅れ請求分も含めて入力します。
A13: 6 | G13: =IF(F13="","",F13*3280) | J13: =IF(F13="","",SUM(G13:I13)) | K13: =IF(SUM(F13:J13)=0,"",SUM(F13:J13)) | M13: 旧二次予防事業では月遅れ分は、別の請求書で提出としておりましたが、
A14: 7 | G14: =IF(F14="","",F14*3280) | J14: =IF(F14="","",SUM(G14:I14)) | K14: =IF(SUM(F14:J14)=0,"",SUM(F14:J14)) | M14: 当事業では月遅れも一緒にしていただいてかまいません。
A15: 8 | G15: =IF(F15="","",F15*3280) | J15: =IF(F15="","",SUM(G15:I15)) | K15: =IF(SUM(F15:J15)=0,"",SUM(F15:J15))
A16: 9 | G16: =IF(F16="","",F16*3280) | J16: =IF(F16="","",SUM(G16:I16)) | K16: =IF(SUM(F16:J16)=0,"",SUM(F16:J16))
A17: 10 | G17: =IF(F17="","",F17*3280) | J17: =IF(F17="","",SUM(G17:I17)) | K17: =IF(SUM(F17:J17)=0,"",SUM(F17:J17))
A18: 11 | G18: =IF(F18="","",F18*3280) | J18: =IF(F18="","",SUM(G18:I18)) | K18: =IF(SUM(F18:J18)=0,"",SUM(F18:J18))
A19: 12 | G19: =IF(F19="","",F19*3280) | J19: =IF(F19="","",SUM(G19:I19)) | K19: =IF(SUM(F19:J19)=0,"",SUM(F19:J19))
A20: 13 | G20: =IF(F20="","",F20*3280) | J20: =IF(F20="","",SUM(G20:I20)) | K20: =IF(SUM(F20:J20)=0,"",SUM(F20:J20))
A21: 14 | G21: =IF(F21="","",F21*3280) | J21: =IF(F21="","",SUM(G21:I21)) | K21: =IF(SUM(F21:J21)=0,"",SUM(F21:J21))
A22: 15 | G22: =IF(F22="","",F22*3280) | J22: =IF(F22="","",SUM(G22:I22)) | K22: =IF(SUM(F22:J22)=0,"",SUM(F22:J22))
A23: 16 | G23: =IF(F23="","",F23*3280) | J23: =IF(F23="","",SUM(G23:I23)) | K23: =IF(SUM(F23:J23)=0,"",SUM(F23:J23))
A24: 17 | G24: =IF(F24="","",F24*3280) | J24: =IF(F24="","",SUM(G24:I24)) | K24: =IF(SUM(F24:J24)=0,"",SUM(F24:J24))
A25: 18 | G25: =IF(F25="","",F25*3280) | J25: =IF(F25="","",SUM(G25:I25)) | K25: =IF(SUM(F25:J25)=0,"",SUM(F25:J25))
A26: 19 | G26: =IF(F26="","",F26*3280) | J26: =IF(F26="","",SUM(G26:I26)) | K26: =IF(SUM(F26:J26)=0,"",SUM(F26:J26))
... A47: 40 | G47: =IF(F47="","",F47*3280) | J47: =IF(F47="","",SUM(G47:I47)) | K47: =IF(SUM(F47:J47)=0,"",SUM(F47:J47))
C48: 計 | F48: =SUM(F8:F47) -> 0 | G48: =SUM(G8:G47) -> 0 | H48: =SUM(H8:H47) -> 0 | I48: =SUM(I8:I47) -> 0 | J48: =SUM(J8:J47) -> 0

Sheet ① (５箇所目)
A1: 通所型短期集中サービス業務実績明細書 | M1: ※この「実績明細書」を入力すると、②実績報告③請求書の集計がされます。
A3: （事業所名） | C3: ='①業務実績明細書（１箇所目）'!C3:G3 -> 0 | H3: （開催場所） | I3: ='①業務実績明細書（１箇所目）'!I3:K3 -> 0
A5: （遠隔地実施加算） | C5: 7500 | D5: × | F5: （ 実施回数 | H5: 0 | I5: ） ＝ | J5: =C5*H5 -> 0
A7: No | B7: 被保険者番号 | C7: カナ氏名 | D7: 提供年月 | F7: 回数 （件数） | G7: 基本 委託料 | H7: 訪問ｱｾｽ ﾒﾝﾄ加算 | I7: 自立化 加算 | J7: 委託金額 | K7: 備考
A8: 1 | G8: =IF(F8="","",F8*3280) | J8: =IF(F8="","",SUM(G8:I8)) | M8: ※入力箇所･･･被保険者番号、カナ氏名、負担割合、提供年月、回数、備考
A9: 2 | G9: =IF(F9="","",F9*3280) | M9: 負担割合を入力すると、１回あたりの単価が表示されます。
A10: 3 | G10: =IF(F10="","",F10*3280) | M10: 回数（件数）を入力すると、委託金額が計算されます。
A11: 4 | G11: =IF(F11="","",F11*3280) | J11: =IF(F11="","",SUM(G11:I11)) | K11: =IF(SUM(F11:J11)=0,"",SUM(F11:J11))
A12: 5 | G12: =IF(F12="","",F12*3280) | J12: =IF(F12="","",SUM(G12:I12)) | K12: =IF(SUM(F12:J12)=0,"",SUM(F12:J12)) | M12: ※明細欄には、月遅れ請求分も含めて入力します。
A13: 6 | G13: =IF(F13="","",F13*3280) | J13: =IF(F13="","",SUM(G13:I13)) | K13: =IF(SUM(F13:J13)=0,"",SUM(F13:J13)) | M13: 旧二次予防事業では月遅れ分は、別の請求書で提出としておりましたが、
A14: 7 | G14: =IF(F14="","",F14*3280) | J14: =IF(F14="","",SUM(G14:I14)) | K14: =IF(SUM(F14:J14)=0,"",SUM(F14:J14)) | M14: 当事業では月遅れも一緒にしていただいてかまいません。
A15: 8 | G15: =IF(F15="","",F15*3280) | J15: =IF(F15="","",SUM(G15:I15)) | K15: =IF(SUM(F15:J15)=0,"",SUM(F15:J15))
A16: 9 | G16: =IF(F16="","",F16*3280) | J16: =IF(F16="","",SUM(G16:I16)) | K16: =IF(SUM(F16:J16)=0,"",SUM(F16:J16))
A17: 10 | G17: =IF(F17="","",F17*3280) | J17: =IF(F17="","",SUM(G17:I17)) | K17: =IF(SUM(F17:J17)=0,"",SUM(F17:J17))
A18: 11 | G18: =IF(F18="","",F18*3280) | J18: =IF(F18="","",SUM(G18:I18)) | K18: =IF(SUM(F18:J18)=0,"",SUM(F18:J18))
A19: 12 | G19: =IF(F19="","",F19*3280) | J19: =IF(F19="","",SUM(G19:I19)) | K19: =IF(SUM(F19:J19)=0,"",SUM(F19:J19))
A20: 13 | G20: =IF(F20="","",F20*3280) | J20: =IF(F20="","",SUM(G20:I20)) | K20: =IF(SUM(F20:J20)=0,"",SUM(F20:J20))
A21: 14 | G21: =IF(F21="","",F21*3280) | J21: =IF(F21="","",SUM(G21:I21)) | K21: =IF(SUM(F21:J21)=0,"",SUM(F21:J21))
A22: 15 | G22: =IF(F22="","",F22*3280) | J22: =IF(F22="","",SUM(G22:I22)) | K22: =IF(SUM(F22:J22)=0,"",SUM(F22:J22))
A23: 16 | G23: =IF(F23="","",F23*3280) | J23: =IF(F23="","",SUM(G23:I23)) | K23: =IF(SUM(F23:J23)=0,"",SUM(F23:J23))
A24: 17 | G24: =IF(F24="","",F24*3280) | J24: =IF(F24="","",SUM(G24:I24)) | K24: =IF(SUM(F24:J24)=0,"",SUM(F24:J24))
A25: 18 | G25: =IF(F25="","",F25*3280) | J25: =IF(F25="","",SUM(G25:I25)) | K25: =IF(SUM(F25:J25)=0,"",SUM(F25:J25))
A26: 19 | G26: =IF(F26="","",F26*3280) | J26: =IF(F26="","",SUM(G26:I26)) | K26: =IF(SUM(F26:J26)=0,"",SUM(F26:J26))
... A47: 40 | G47: =IF(F47="","",F47*3280) | J47: =IF(F47="","",SUM(G47:I47)) | K47: =IF(SUM(F47:J47)=0,"",SUM(F47:J47))
C48: 計 | F48: =SUM(F8:F47) -> 0 | G48: =SUM(G8:G47) -> 0 | H48: =SUM(H8:H47) -> 0 | I48: =SUM(I8:I47) -> 0 | J48: =SUM(J8:J47) -> 0

Sheet ①(６箇所目)
A1: 通所型短期集中サービス業務実績明細書 | M1: ※この「実績明細書」を入力すると、②実績報告③請求書の集計がされます。
A3: （事業所名） | C3: ='①業務実績明細書（１箇所目）'!C3:G3 -> 0 | H3: （開催場所） | I3: ='①業務実績明細書（１箇所目）'!I3:K3 -> 0
A5: （遠隔地実施加算） | C5: 7500 | D5: × | F5: （ 実施回数 | H5: 0 | I5: ） ＝ | J5: =C5*H5 -> 0
A7: No | B7: 被保険者番号 | C7: カナ氏名 | D7: 提供年月 | F7: 回数 （件数） | G7: 基本 委託料 | H7: 訪問ｱｾｽ ﾒﾝﾄ加算 | I7: 自立化 加算 | J7: 委託金額 | K7: 備考
A8: 1 | G8: =IF(F8="","",F8*3280) | J8: =IF(F8="","",SUM(G8:I8)) | M8: ※入力箇所･･･被保険者番号、カナ氏名、負担割合、提供年月、回数、備考
A9: 2 | G9: =IF(F9="","",F9*3280) | M9: 負担割合を入力すると、１回あたりの単価が表示されます。
A10: 3 | G10: =IF(F10="","",F10*3280) | M10: 回数（件数）を入力すると、委託金額が計算されます。
A11: 4 | G11: =IF(F11="","",F11*3280) | J11: =IF(F11="","",SUM(G11:I11)) | K11: =IF(SUM(F11:J11)=0,"",SUM(F11:J11))
A12: 5 | G12: =IF(F12="","",F12*3280) | J12: =IF(F12="","",SUM(G12:I12)) | K12: =IF(SUM(F12:J12)=0,"",SUM(F12:J12)) | M12: ※明細欄には、月遅れ請求分も含めて入力します。
A13: 6 | G13: =IF(F13="","",F13*3280) | J13: =IF(F13="","",SUM(G13:I13)) | K13: =IF(SUM(F13:J13)=0,"",SUM(F13:J13)) | M13: 旧二次予防事業では月遅れ分は、別の請求書で提出としておりましたが、
A14: 7 | G14: =IF(F14="","",F14*3280) | J14: =IF(F14="","",SUM(G14:I14)) | K14: =IF(SUM(F14:J14)=0,"",SUM(F14:J14)) | M14: 当事業では月遅れも一緒にしていただいてかまいません。
A15: 8 | G15: =IF(F15="","",F15*3280) | J15: =IF(F15="","",SUM(G15:I15)) | K15: =IF(SUM(F15:J15)=0,"",SUM(F15:J15))
A16: 9 | G16: =IF(F16="","",F16*3280) | J16: =IF(F16="","",SUM(G16:I16)) | K16: =IF(SUM(F16:J16)=0,"",SUM(F16:J16))
A17: 10 | G17: =IF(F17="","",F17*3280) | J17: =IF(F17="","",SUM(G17:I17)) | K17: =IF(SUM(F17:J17)=0,"",SUM(F17:J17))
A18: 11 | G18: =IF(F18="","",F18*3280) | J18: =IF(F18="","",SUM(G18:I18)) | K18: =IF(SUM(F18:J18)=0,"",SUM(F18:J18))
A19: 12 | G19: =IF(F19="","",F19*3280) | J19: =IF(F19="","",SUM(G19:I19)) | K19: =IF(SUM(F19:J19)=0,"",SUM(F19:J19))
A20: 13 | G20: =IF(F20="","",F20*3280) | J20: =IF(F20="","",SUM(G20:I20)) | K20: =IF(SUM(F20:J20)=0,"",SUM(F20:J20))
A21: 14 | G21: =IF(F21="","",F21*3280) | J21: =IF(F21="","",SUM(G21:I21)) | K21: =IF(SUM(F21:J21)=0,"",SUM(F21:J21))
A22: 15 | G22: =IF(F22="","",F22*3280) | J22: =IF(F22="","",SUM(G22:I22)) | K22: =IF(SUM(F22:J22)=0,"",SUM(F22:J22))
A23: 16 | G23: =IF(F23="","",F23*3280) | J23: =IF(F23="","",SUM(G23:I23)) | K23: =IF(SUM(F23:J23)=0,"",SUM(F23:J23))
A24: 17 | G24: =IF(F24="","",F24*3280) | J24: =IF(F24="","",SUM(G24:I24)) | K24: =IF(SUM(F24:J24)=0,"",SUM(F24:J24))
A25: 18 | G25: =IF(F25="","",F25*3280) | J25: =IF(F25="","",SUM(G25:I25)) | K25: =IF(SUM(F25:J25)=0,"",SUM(F25:J25))
A26: 19 | G26: =IF(F26="","",F26*3280) | J26: =IF(F26="","",SUM(G26:I26)) | K26: =IF(SUM(F26:J26)=0,"",SUM(F26:J26))
... A47: 40 | G47: =IF(F47="","",F47*3280) | J47: =IF(F47="","",SUM(G47:I47)) | K47: =IF(SUM(F47:J47)=0,"",SUM(F47:J47))
C48: 計 | F48: =SUM(F8:F47) -> 0 | G48: =SUM(G8:G47) -> 0 | H48: =SUM(H8:H47) -> 0 | I48: =SUM(I8:I47) -> 0 | J48: =SUM(J8:J47) -> 0

Sheet ① (７箇所目) 
A1: 通所型短期集中サービス業務実績明細書 | M1: ※この「実績明細書」を入力すると、②実績報告③請求書の集計がされます。
A3: （事業所名） | C3: ='①業務実績明細書（１箇所目）'!C3:G3 -> 0 | H3: （開催場所） | I3: ='①業務実績明細書（１箇所目）'!I3:K3 -> 0
A5: （遠隔地実施加算） | C5: 7500 | D5: × | F5: （ 実施回数 | H5: 0 | I5: ） ＝ | J5: =C5*H5 -> 0
A7: No | B7: 被保険者番号 | C7: カナ氏名 | D7: 提供年月 | F7: 回数 （件数） | G7: 基本 委託料 | H7: 訪問ｱｾｽ ﾒﾝﾄ加算 | I7: 自立化 加算 | J7: 委託金額 | K7: 備考
A8: 1 | G8: =IF(F8="","",F8*3280) | J8: =IF(F8="","",SUM(G8:I8)) | M8: ※入力箇所･･･被保険者番号、カナ氏名、負担割合、提供年月、回数、備考
A9: 2 | G9: =IF(F9="","",F9*3280) | M9: 負担割合を入力すると、１回あたりの単価が表示されます。
A10: 3 | G10: =IF(F10="","",F10*3280) | M10: 回数（件数）を入力すると、委託金額が計算されます。
A11: 4 | G11: =IF(F11="","",F11*3280) | J11: =IF(F11="","",SUM(G11:I11)) | K11: =IF(SUM(F11:J11)=0,"",SUM(F11:J11))
A12: 5 | G12: =IF(F12="","",F12*3280) | J12: =IF(F12="","",SUM(G12:I12)) | K12: =IF(SUM(F12:J12)=0,"",SUM(F12:J12)) | M12: ※明細欄には、月遅れ請求分も含めて入力します。
A13: 6 | G13: =IF(F13="","",F13*3280) | J13: =IF(F13="","",SUM(G13:I13)) | K13: =IF(SUM(F13:J13)=0,"",SUM(F13:J13)) | M13: 旧二次予防事業では月遅れ分は、別の請求書で提出としておりましたが、
A14: 7 | G14: =IF(F14="","",F14*3280) | J14: =IF(F14="","",SUM(G14:I14)) | K14: =IF(SUM(F14:J14)=0,"",SUM(F14:J14)) | M14: 当事業では月遅れも一緒にしていただいてかまいません。
A15: 8 | G15: =IF(F15="","",F15*3280) | J15: =IF(F15="","",SUM(G15:I15)) | K15: =IF(SUM(F15:J15)=0,"",SUM(F15:J15))
A16: 9 | G16: =IF(F16="","",F16*3280) | J16: =IF(F16="","",SUM(G16:I16)) | K16: =IF(SUM(F16:J16)=0,"",SUM(F16:J16))
A17: 10 | G17: =IF(F17="","",F17*3280) | J17: =IF(F17="","",SUM(G17:I17)) | K17: =IF(SUM(F17:J17)=0,"",SUM(F17:J17))
A18: 11 | G18: =IF(F18="","",F18*3280) | J18: =IF(F18="","",SUM(G18:I18)) | K18: =IF(SUM(F18:J18)=0,"",SUM(F18:J18))
A19: 12 | G19: =IF(F19="","",F19*3280) | J19: =IF(F19="","",SUM(G19:I19)) | K19: =IF(SUM(F19:J19)=0,"",SUM(F19:J19))
A20: 13 | G20: =IF(F20="","",F20*3280) | J20: =IF(F20="","",SUM(G20:I20)) | K20: =IF(SUM(F20:J20)=0,"",SUM(F20:J20))
A21: 14 | G21: =IF(F21="","",F21*3280) | J21: =IF(F21="","",SUM(G21:I21)) | K21: =IF(SUM(F21:J21)=0,"",SUM(F21:J21))
A22: 15 | G22: =IF(F22="","",F22*3280) | J22: =IF(F22="","",SUM(G22:I22)) | K22: =IF(SUM(F22:J22)=0,"",SUM(F22:J22))
A23: 16 | G23: =IF(F23="","",F23*3280) | J23: =IF(F23="","",SUM(G23:I23)) | K23: =IF(SUM(F23:J23)=0,"",SUM(F23:J23))
A24: 17 | G24: =IF(F24="","",F24*3280) | J24: =IF(F24="","",SUM(G24:I24)) | K24: =IF(SUM(F24:J24)=0,"",SUM(F24:J24))
A25: 18 | G25: =IF(F25="","",F25*3280) | J25: =IF(F25="","",SUM(G25:I25)) | K25: =IF(SUM(F25:J25)=0,"",SUM(F25:J25))
A26: 19 | G26: =IF(F26="","",F26*3280) | J26: =IF(F26="","",SUM(G26:I26)) | K26: =IF(SUM(F26:J26)=0,"",SUM(F26:J26))
... A47: 40 | G47: =IF(F47="","",F47*3280) | J47: =IF(F47="","",SUM(G47:I47)) | K47: =IF(SUM(F47:J47)=0,"",SUM(F47:J47))
C48: 計 | F48: =SUM(F8:F47) -> 0 | G48: =SUM(G8:G47) -> 0 | H48: =SUM(H8:H47) -> 0 | I48: =SUM(I8:I47) -> 0 | J48: =SUM(J8:J47) -> 0

Sheet ① (８箇所目)
A1: 通所型短期集中サービス業務実績明細書 | M1: ※この「実績明細書」を入力すると、②実績報告③請求書の集計がされます。
A3: （事業所名） | C3: ='①業務実績明細書（１箇所目）'!C3:G3 -> 0 | H3: （開催場所） | I3: ='①業務実績明細書（１箇所目）'!I3:K3 -> 0
A5: （遠隔地実施加算） | C5: 7500 | D5: × | F5: （ 実施回数 | H5: 0 | I5: ） ＝ | J5: =C5*H5 -> 0
A7: No | B7: 被保険者番号 | C7: カナ氏名 | D7: 提供年月 | F7: 回数 （件数） | G7: 基本 委託料 | H7: 訪問ｱｾｽ ﾒﾝﾄ加算 | I7: 自立化 加算 | J7: 委託金額 | K7: 備考
A8: 1 | G8: =IF(F8="","",F8*3280) | J8: =IF(F8="","",SUM(G8:I8)) | M8: ※入力箇所･･･被保険者番号、カナ氏名、負担割合、提供年月、回数、備考
A9: 2 | G9: =IF(F9="","",F9*3280) | M9: 負担割合を入力すると、１回あたりの単価が表示されます。
A10: 3 | G10: =IF(F10="","",F10*3280) | M10: 回数（件数）を入力すると、委託金額が計算されます。
A11: 4 | G11: =IF(F11="","",F11*3280) | J11: =IF(F11="","",SUM(G11:I11)) | K11: =IF(SUM(F11:J11)=0,"",SUM(F11:J11))
A12: 5 | G12: =IF(F12="","",F12*3280) | J12: =IF(F12="","",SUM(G12:I12)) | K12: =IF(SUM(F12:J12)=0,"",SUM(F12:J12)) | M12: ※明細欄には、月遅れ請求分も含めて入力します。
A13: 6 | G13: =IF(F13="","",F13*3280) | J13: =IF(F13="","",SUM(G13:I13)) | K13: =IF(SUM(F13:J13)=0,"",SUM(F13:J13)) | M13: 旧二次予防事業では月遅れ分は、別の請求書で提出としておりましたが、
A14: 7 | G14: =IF(F14="","",F14*3280) | J14: =IF(F14="","",SUM(G14:I14)) | K14: =IF(SUM(F14:J14)=0,"",SUM(F14:J14)) | M14: 当事業では月遅れも一緒にしていただいてかまいません。
A15: 8 | G15: =IF(F15="","",F15*3280) | J15: =IF(F15="","",SUM(G15:I15)) | K15: =IF(SUM(F15:J15)=0,"",SUM(F15:J15))
A16: 9 | G16: =IF(F16="","",F16*3280) | J16: =IF(F16="","",SUM(G16:I16)) | K16: =IF(SUM(F16:J16)=0,"",SUM(F16:J16))
A17: 10 | G17: =IF(F17="","",F17*3280) | J17: =IF(F17="","",SUM(G17:I17)) | K17: =IF(SUM(F17:J17)=0,"",SUM(F17:J17))
A18: 11 | G18: =IF(F18="","",F18*3280) | J18: =IF(F18="","",SUM(G18:I18)) | K18: =IF(SUM(F18:J18)=0,"",SUM(F18:J18))
A19: 12 | G19: =IF(F19="","",F19*3280) | J19: =IF(F19="","",SUM(G19:I19)) | K19: =IF(SUM(F19:J19)=0,"",SUM(F19:J19))
A20: 13 | G20: =IF(F20="","",F20*3280) | J20: =IF(F20="","",SUM(G20:I20)) | K20: =IF(SUM(F20:J20)=0,"",SUM(F20:J20))
A21: 14 | G21: =IF(F21="","",F21*3280) | J21: =IF(F21="","",SUM(G21:I21)) | K21: =IF(SUM(F21:J21)=0,"",SUM(F21:J21))
A22: 15 | G22: =IF(F22="","",F22*3280) | J22: =IF(F22="","",SUM(G22:I22)) | K22: =IF(SUM(F22:J22)=0,"",SUM(F22:J22))
A23: 16 | G23: =IF(F23="","",F23*3280) | J23: =IF(F23="","",SUM(G23:I23)) | K23: =IF(SUM(F23:J23)=0,"",SUM(F23:J23))
A24: 17 | G24: =IF(F24="","",F24*3280) | J24: =IF(F24="","",SUM(G24:I24)) | K24: =IF(SUM(F24:J24)=0,"",SUM(F24:J24))
A25: 18 | G25: =IF(F25="","",F25*3280) | J25: =IF(F25="","",SUM(G25:I25)) | K25: =IF(SUM(F25:J25)=0,"",SUM(F25:J25))
A26: 19 | G26: =IF(F26="","",F26*3280) | J26: =IF(F26="","",SUM(G26:I26)) | K26: =IF(SUM(F26:J26)=0,"",SUM(F26:J26))
... A47: 40 | G47: =IF(F47="","",F47*3280) | J47: =IF(F47="","",SUM(G47:I47)) | K47: =IF(SUM(F47:J47)=0,"",SUM(F47:J47))
C48: 計 | F48: =SUM(F8:F47) -> 0 | G48: =SUM(G8:G47) -> 0 | H48: =SUM(H8:H47) -> 0 | I48: =SUM(I8:I47) -> 0 | J48: =SUM(J8:J47) -> 0

Sheet ① (９箇所目)
A1: 通所型短期集中サービス業務実績明細書 | M1: ※この「実績明細書」を入力すると、②実績報告③請求書の集計がされます。
A3: （事業所名） | C3: ='①業務実績明細書（１箇所目）'!C3:G3 -> 0 | H3: （開催場所） | I3: ='①業務実績明細書（１箇所目）'!I3:K3 -> 0
A5: （遠隔地実施加算） | C5: 7500 | D5: × | F5: （ 実施回数 | H5: 0 | I5: ） ＝ | J5: =C5*H5 -> 0
A7: No | B7: 被保険者番号 | C7: カナ氏名 | D7: 提供年月 | F7: 回数 （件数） | G7: 基本 委託料 | H7: 訪問ｱｾｽ ﾒﾝﾄ加算 | I7: 自立化 加算 | J7: 委託金額 | K7: 備考
A8: 1 | G8: =IF(F8="","",F8*3280) | J8: =IF(F8="","",SUM(G8:I8)) | M8: ※入力箇所･･･被保険者番号、カナ氏名、負担割合、提供年月、回数、備考
A9: 2 | G9: =IF(F9="","",F9*3280) | M9: 負担割合を入力すると、１回あたりの単価が表示されます。
A10: 3 | G10: =IF(F10="","",F10*3280) | M10: 回数（件数）を入力すると、委託金額が計算されます。
A11: 4 | G11: =IF(F11="","",F11*3280) | J11: =IF(F11="","",SUM(G11:I11)) | K11: =IF(SUM(F11:J11)=0,"",SUM(F11:J11))
A12: 5 | G12: =IF(F12="","",F12*3280) | J12: =IF(F12="","",SUM(G12:I12)) | K12: =IF(SUM(F12:J12)=0,"",SUM(F12:J12)) | M12: ※明細欄には、月遅れ請求分も含めて入力します。
A13: 6 | G13: =IF(F13="","",F13*3280) | J13: =IF(F13="","",SUM(G13:I13)) | K13: =IF(SUM(F13:J13)=0,"",SUM(F13:J13)) | M13: 旧二次予防事業では月遅れ分は、別の請求書で提出としておりましたが、
A14: 7 | G14: =IF(F14="","",F14*3280) | J14: =IF(F14="","",SUM(G14:I14)) | K14: =IF(SUM(F14:J14)=0,"",SUM(F14:J14)) | M14: 当事業では月遅れも一緒にしていただいてかまいません。
A15: 8 | G15: =IF(F15="","",F15*3280) | J15: =IF(F15="","",SUM(G15:I15)) | K15: =IF(SUM(F15:J15)=0,"",SUM(F15:J15))
A16: 9 | G16: =IF(F16="","",F16*3280) | J16: =IF(F16="","",SUM(G16:I16)) | K16: =IF(SUM(F16:J16)=0,"",SUM(F16:J16))
A17: 10 | G17: =IF(F17="","",F17*3280) | J17: =IF(F17="","",SUM(G17:I17)) | K17: =IF(SUM(F17:J17)=0,"",SUM(F17:J17))
A18: 11 | G18: =IF(F18="","",F18*3280) | J18: =IF(F18="","",SUM(G18:I18)) | K18: =IF(SUM(F18:J18)=0,"",SUM(F18:J18))
A19: 12 | G19: =IF(F19="","",F19*3280) | J19: =IF(F19="","",SUM(G19:I19)) | K19: =IF(SUM(F19:J19)=0,"",SUM(F19:J19))
A20: 13 | G20: =IF(F20="","",F20*3280) | J20: =IF(F20="","",SUM(G20:I20)) | K20: =IF(SUM(F20:J20)=0,"",SUM(F20:J20))
A21: 14 | G21: =IF(F21="","",F21*3280) | J21: =IF(F21="","",SUM(G21:I21)) | K21: =IF(SUM(F21:J21)=0,"",SUM(F21:J21))
A22: 15 | G22: =IF(F22="","",F22*3280) | J22: =IF(F22="","",SUM(G22:I22)) | K22: =IF(SUM(F22:J22)=0,"",SUM(F22:J22))
A23: 16 | G23: =IF(F23="","",F23*3280) | J23: =IF(F23="","",SUM(G23:I23)) | K23: =IF(SUM(F23:J23)=0,"",SUM(F23:J23))
A24: 17 | G24: =IF(F24="","",F24*3280) | J24: =IF(F24="","",SUM(G24:I24)) | K24: =IF(SUM(F24:J24)=0,"",SUM(F24:J24))
A25: 18 | G25: =IF(F25="","",F25*3280) | J25: =IF(F25="","",SUM(G25:I25)) | K25: =IF(SUM(F25:J25)=0,"",SUM(F25:J25))
A26: 19 | G26: =IF(F26="","",F26*3280) | J26: =IF(F26="","",SUM(G26:I26)) | K26: =IF(SUM(F26:J26)=0,"",SUM(F26:J26))
... A47: 40 | G47: =IF(F47="","",F47*3280) | J47: =IF(F47="","",SUM(G47:I47)) | K47: =IF(SUM(F47:J47)=0,"",SUM(F47:J47))
C48: 計 | F48: =SUM(F8:F47) -> 0 | G48: =SUM(G8:G47) -> 0 | H48: =SUM(H8:H47) -> 0 | I48: =SUM(I8:I47) -> 0 | J48: =SUM(J8:J47) -> 0

Sheet ① (１０箇所目)
A1: 通所型短期集中サービス業務実績明細書 | M1: ※この「実績明細書」を入力すると、②実績報告③請求書の集計がされます。
A3: （事業所名） | C3: ='①業務実績明細書（１箇所目）'!C3:G3 -> 0 | H3: （開催場所） | I3: ='①業務実績明細書（１箇所目）'!I3:K3 -> 0
A5: （遠隔地実施加算） | C5: 7500 | D5: × | F5: （ 実施回数 | H5: 0 | I5: ） ＝ | J5: =C5*H5 -> 0
A7: No | B7: 被保険者番号 | C7: カナ氏名 | D7: 提供年月 | F7: 回数 （件数） | G7: 基本 委託料 | H7: 訪問ｱｾｽ ﾒﾝﾄ加算 | I7: 自立化 加算 | J7: 委託金額 | K7: 備考
A8: 1 | G8: =IF(F8="","",F8*3280) | J8: =IF(F8="","",SUM(G8:I8)) | M8: ※入力箇所･･･被保険者番号、カナ氏名、負担割合、提供年月、回数、備考
A9: 2 | G9: =IF(F9="","",F9*3280) | M9: 負担割合を入力すると、１回あたりの単価が表示されます。
A10: 3 | G10: =IF(F10="","",F10*3280) | M10: 回数（件数）を入力すると、委託金額が計算されます。
A11: 4 | G11: =IF(F11="","",F11*3280) | J11: =IF(F11="","",SUM(G11:I11)) | K11: =IF(SUM(F11:J11)=0,"",SUM(F11:J11))
A12: 5 | G12: =IF(F12="","",F12*3280) | J12: =IF(F12="","",SUM(G12:I12)) | K12: =IF(SUM(F12:J12)=0,"",SUM(F12:J12)) | M12: ※明細欄には、月遅れ請求分も含めて入力します。
A13: 6 | G13: =IF(F13="","",F13*3280) | J13: =IF(F13="","",SUM(G13:I13)) | K13: =IF(SUM(F13:J13)=0,"",SUM(F13:J13)) | M13: 旧二次予防事業では月遅れ分は、別の請求書で提出としておりましたが、
A14: 7 | G14: =IF(F14="","",F14*3280) | J14: =IF(F14="","",SUM(G14:I14)) | K14: =IF(SUM(F14:J14)=0,"",SUM(F14:J14)) | M14: 当事業では月遅れも一緒にしていただいてかまいません。
A15: 8 | G15: =IF(F15="","",F15*3280) | J15: =IF(F15="","",SUM(G15:I15)) | K15: =IF(SUM(F15:J15)=0,"",SUM(F15:J15))
A16: 9 | G16: =IF(F16="","",F16*3280) | J16: =IF(F16="","",SUM(G16:I16)) | K16: =IF(SUM(F16:J16)=0,"",SUM(F16:J16))
A17: 10 | G17: =IF(F17="","",F17*3280) | J17: =IF(F17="","",SUM(G17:I17)) | K17: =IF(SUM(F17:J17)=0,"",SUM(F17:J17))
A18: 11 | G18: =IF(F18="","",F18*3280) | J18: =IF(F18="","",SUM(G18:I18)) | K18: =IF(SUM(F18:J18)=0,"",SUM(F18:J18))
A19: 12 | G19: =IF(F19="","",F19*3280) | J19: =IF(F19="","",SUM(G19:I19)) | K19: =IF(SUM(F19:J19)=0,"",SUM(F19:J19))
A20: 13 | G20: =IF(F20="","",F20*3280) | J20: =IF(F20="","",SUM(G20:I20)) | K20: =IF(SUM(F20:J20)=0,"",SUM(F20:J20))
A21: 14 | G21: =IF(F21="","",F21*3280) | J21: =IF(F21="","",SUM(G21:I21)) | K21: =IF(SUM(F21:J21)=0,"",SUM(F21:J21))
A22: 15 | G22: =IF(F22="","",F22*3280) | J22: =IF(F22="","",SUM(G22:I22)) | K22: =IF(SUM(F22:J22)=0,"",SUM(F22:J22))
A23: 16 | G23: =IF(F23="","",F23*3280) | J23: =IF(F23="","",SUM(G23:I23)) | K23: =IF(SUM(F23:J23)=0,"",SUM(F23:J23))
A24: 17 | G24: =IF(F24="","",F24*3280) | J24: =IF(F24="","",SUM(G24:I24)) | K24: =IF(SUM(F24:J24)=0,"",SUM(F24:J24))
A25: 18 | G25: =IF(F25="","",F25*3280) | J25: =IF(F25="","",SUM(G25:I25)) | K25: =IF(SUM(F25:J25)=0,"",SUM(F25:J25))
A26: 19 | G26: =IF(F26="","",F26*3280) | J26: =IF(F26="","",SUM(G26:I26)) | K26: =IF(SUM(F26:J26)=0,"",SUM(F26:J26))
... A47: 40 | G47: =IF(F47="","",F47*3280) | J47: =IF(F47="","",SUM(G47:I47)) | K47: =IF(SUM(F47:J47)=0,"",SUM(F47:J47))
C48: 計 | F48: =SUM(F8:F47) -> 0 | G48: =SUM(G9:G47) -> 0 | H48: =SUM(H8:H47) -> 0 | I48: =SUM(I8:I47) -> 0 | J48: =SUM(J8:J47) -> 0
