Workbook

Sheet 申込書
A1: 第６回 天草法人会杯バレーボールフェスティバル参加申込書 | BC1: 男 | BD1: チャンピオン ・ フレンドリー | BE1: 参加 ・ 不参加
BC2: 女 | BD2: チャンピオン | BE2: 参加
A3: フリガナ | AK3: 同一団体出場チーム名 | BD3: フレンドリー | BE3: 不参加
A5: チーム名
A8: 参加種目 | L8: チャンピオン ・ フレンドリー | AK8: ※フレンドリーの部が開催できなくても
AL9: 参加 ・ 不参加
A11: 代表者 (連絡担当者) | L11: 氏 名
L14: 住 所 | U14: 〒
L17: 連絡先 | AH17: 携帯電話
L20: E-mail
A23: No. | E23: 選手名 | S23: 年齢 | X23: 住所 | AN23: 勤務先・在籍校・出身地 | AY23: 男・女
A25: 1
BE26: 勤務先
A27: 2 | BE27: 在籍校
BE28: 出身地
A29: 3
A31: 4
A33: 5
A35: 6
A37: 7
A39: 8
A41: 9
A43: 10
A45: 11
A47: 12
A49: 13
A51: 14
A53: 15
A55: 10 | X55: 天草市
A57: 11 | X57: 天草市
A59: 12 | X59: 天草市
A61: 13 | X61: 天草市
A63: 14 | X63: 天草市
A65: 15 | X65: 天草市

Sheet データ
B2: フリガナ | D2: =申込書!L3 -> 0
B3: チーム名 | D3: =申込書!L5 -> 0
B4: 出場チーム名 | D4: =申込書!AK5 -> 0
B5: 参加種目 | D5: =申込書!L8 -> チャンピオン ・ フレンドリー
B6: チームが少ない場合 | D6: =申込書!AL9 -> 参加 ・ 不参加
B7: 代用者氏名 | D7: =申込書!T11 -> 0
B8: 〒 | D8: =申込書!V14 -> 0
B9: 住所 | D9: =申込書!U15 -> 0
B10: 連絡先 | D10: =申込書!T17 -> 0
B11: 携帯電話 | D11: =申込書!AO17 -> 0
B12: E-mail | D12: =申込書!T20 -> 0
B13: 選手名 | C13: 年齢 | D13: 住所 | G13: 性別
A14: 1 | B14: =申込書!E25 -> 0 | C14: =申込書!S25 -> 0 | D14: =申込書!X25 -> 0 | E14: =申込書!AN25 -> 0 | F14: =申込書!AN26 -> 0 | G14: =申込書!AY25 -> 0
A15: 2 | B15: =申込書!E26 -> 0 | C15: =申込書!S26 -> 0 | D15: =申込書!X26 -> 0 | E15: =申込書!AN27 -> 0 | F15: =申込書!AN28 -> 0 | G15: =申込書!AY26 -> 0
A16: 3 | B16: =申込書!E27 -> 0 | C16: =申込書!S27 -> 0 | D16: =申込書!X27 -> 0 | E16: =申込書!AN29 -> 0 | F16: =申込書!AN30 -> 0 | G16: =申込書!AY27 -> 0
A17: 4 | B17: =申込書!E28 -> 0 | C17: =申込書!S28 -> 0 | D17: =申込書!X28 -> 0 | E17: =申込書!AN31 -> 0 | F17: =申込書!AN32 -> 0 | G17: =申込書!AY28 -> 0
A18: 5 | B18: =申込書!E29 -> 0 | C18: =申込書!S29 -> 0 | D18: =申込書!X29 -> 0 | E18: =申込書!AN33 -> 0 | F18: =申込書!AN34 -> 0 | G18: =申込書!AY29 -> 0
A19: 6 | B19: =申込書!E30 -> 0 | C19: =申込書!S30 -> 0 | D19: =申込書!X30 -> 0 | E19: =申込書!AN35 -> 0 | F19: =申込書!AN36 -> 0 | G19: =申込書!AY30 -> 0
A20: 7 | B20: =申込書!E31 -> 0 | C20: =申込書!S31 -> 0 | D20: =申込書!X31 -> 0 | E20: =申込書!AN37 -> 0 | F20: =申込書!AN38 -> 0 | G20: =申込書!AY31 -> 0
A21: 8 | B21: =申込書!E32 -> 0 | C21: =申込書!S32 -> 0 | D21: =申込書!X32 -> 0 | E21: =申込書!AN39 -> 0 | F21: =申込書!AN40 -> 0 | G21: =申込書!AY32 -> 0
A22: 9 | B22: =申込書!E33 -> 0 | C22: =申込書!S33 -> 0 | D22: =申込書!X33 -> 0 | E22: =申込書!AN41 -> 0 | F22: =申込書!AN42 -> 0 | G22: =申込書!AY33 -> 0
A23: 10 | B23: =申込書!E34 -> 0 | C23: =申込書!S34 -> 0 | D23: =申込書!X34 -> 0 | E23: =申込書!AN43 -> 0 | F23: =申込書!AN44 -> 0 | G23: =申込書!AY34 -> 0
A24: 11 | B24: =申込書!E35 -> 0 | C24: =申込書!S35 -> 0 | D24: =申込書!X35 -> 0 | E24: =申込書!AN45 -> 0 | F24: =申込書!AN46 -> 0 | G24: =申込書!AY35 -> 0
A25: 12 | B25: =申込書!E36 -> 0 | C25: =申込書!S36 -> 0 | D25: =申込書!X36 -> 0 | E25: =申込書!AN47 -> 0 | F25: =申込書!AN48 -> 0 | G25: =申込書!AY36 -> 0
A26: 13 | B26: =申込書!E37 -> 0 | C26: =申込書!S37 -> 0 | D26: =申込書!X37 -> 0 | E26: =申込書!AN49 -> 0 | F26: =申込書!AN50 -> 0 | G26: =申込書!AY37 -> 0
A27: 14 | B27: =申込書!E38 -> 0 | C27: =申込書!S38 -> 0 | D27: =申込書!X38 -> 0 | E27: =申込書!AN51 -> 0 | F27: =申込書!AN52 -> 0 | G27: =申込書!AY38 -> 0
A28: 15 | B28: =申込書!E39 -> 0 | C28: =申込書!S39 -> 0 | D28: =申込書!X39 -> 0 | E28: =申込書!AN53 -> 0 | F28: =申込書!AN54 -> 0 | G28: =申込書!AY39 -> 0

Sheet 申込書 (印刷用)
A1: 第６回 天草法人会杯バレーボールフェスティバル参加申込書 | BC1: 男
BC2: 女
A3: フリガナ | AK3: 同一団体出場チーム名
A5: チーム名
A8: 参加種目 | L8: チャンピオン | W8: ・ | Z8: フレンドリー | AK8: ※フレンドリーの部が開催できなくても
AL9: 参加 | AS9: ・ | AV9: 不参加
A11: 代表者 (連絡担当者) | L11: 氏 名
L14: 住 所 | T14: 〒
L17: 連絡先 | AH17: 携帯電話
L20: E-mail
A23: No. | E23: 選手名 | S23: 年齢 | X23: 住所 | AN23: 勤務先・在籍校・出身地 | AY23: 男・女
A25: 1
A27: 2
A29: 3
A31: 4
A33: 5
A35: 6
A37: 7
A39: 8
A41: 9
A43: 10
A45: 11
A47: 12
... A53: 15
A55: 10 | X55: 天草市
A57: 11 | X57: 天草市
A59: 12 | X59: 天草市
A61: 13 | X61: 天草市
A63: 14 | X63: 天草市
A65: 15 | X65: 天草市
