Workbook

Sheet ②請求書
A2: 天草市訪問型短期集中サービス委託料請求書
I4: 令和 年 月 日 | L4: ← | M4: 請求書を実際に提出する日付を入力します。
M5: 例えば、令和２年１月に書類を提出する場合は、１月１日～１０日となります。
B6: 天草市長 様
F7: 所 在 地 | I7: =IF([1]業務実績報告書!F7="","",[1]業務実績報告書!F7) | L7: ← | M7: ※「契約者」の所在地、商号又は名称、代表者職氏名を入力します。
F8: 商号又は名称 | I8: =IF([1]業務実績報告書!F8="","",[1]業務実績報告書!F8) | M8: ※契約者と別の人で請求の場合は、委任状が必要です。
F9: 代表者職氏名 | I9: =IF([1]業務実績報告書!F9="","",[1]業務実績報告書!F9) -> ㊞
I10: =IF([1]業務実績報告書!G10="","",[1]業務実績報告書!G10)
A12: 天草市訪問型短期集中サービス事業業務委託契約書第４条の規定に基づき、
B13: 下記のとおり請求します。
D15: ="請求金額 金 "&TEXT(SUM(I18:I20),"#,##0"&" 円") -> 請求金額 金 33,530 円 | L15: ← | M15: 「①業務実績明細書」の入力内容を自動集計します。
M16: ※自動集計に誤りが無いか確認してください。
B17: （内訳）
B18: ・回数単価 5,080 円 × | F18: =SUMIFS('①実績明細書 '!$G$9:$G$38,'①実績明細書 '!$F$9:$F$38,"回数単価") -> 2 | G18: 件 | H18: ＝ | I18: =5080*F18 -> 10160 | J18: 円 | L18: ← | M18: 「①業務実績明細書」の入力内容を自動集計します。
B19: ・包括単価 23,370 円 × | F19: =COUNTIF('①実績明細書 '!$F$9:$F$38,"包括単価") -> 1 | G19: 件 | H19: ＝ | I19: =23370*F19 -> 23370 | J19: 円 | M19: ※自動集計に誤りが無いか確認してください。
A21: 口座振込先
A22: 金融機関名 | D22: ○○○○銀行 □□□□支店 | L22: ← ○○○○銀行 ○○○支店
A23: 預金種類 | D23: 普通 | L23: ← 普通 または 当座
A24: 口座番号 | D24: １２３４５６７ | L24: ← ７ケタ数字
A25: フリガナ | D25: カナシメイ | L25: ← 口座名義のカナ
A26: 口座名義 | D26: 口座名義漢字 | L26: ← 口座名義の漢字

Sheet ①実績明細書 
A4: 天草市訪問型短期集中サービス業務実績明細書 | K4: ※この「実績明細書」を入力すると、②請求書の集計がされます。
A6: （事業所名） | C6: ○○病院
A8: No | B8: 被保険者番号 | C8: カナ氏名 | D8: 提供年月 | F8: 単価種別 | G8: 回数 | H8: 委託金額 | I8: 備考
A9: 1 | D9: 1 | E9: 12 | F9: 包括単価 | G9: 1 | H9: =IF(F9="包括単価",23370,IF(F9="回数単価",5080*G9,"")) -> 23370 | K9: ※入力箇所･･･被保険者番号、カナ氏名、提供年月(支援を開始した月)、委託項目(2項目から選択)
A10: 2 | D10: 1 | E10: 12 | F10: 回数単価 | G10: 2 | H10: =IF(F10="包括単価",23370,IF(F10="回数単価",5080*G10,"")) -> 10160 | K10: 委託項目を選択し、回数を入力すると、回数単価の場合のみ回数に合わせた委託金額が表示されます。
A11: 3 | H11: =IF(F11="包括単価",23370,IF(F11="回数単価",5080*G11,"")) | K11: ※包括単価を選択した場合には回数は計算に含めないように設定しております。
A12: 4 | H12: =IF(F12="包括単価",23370,IF(F12="回数単価",5080*G12,"")) | I12: =IF(SUM(F12:H12)=0,"",SUM(F12:H12))
A13: 5 | H13: =IF(F13="包括単価",23370,IF(F13="回数単価",5080*G13,"")) | I13: =IF(SUM(F13:H13)=0,"",SUM(F13:H13))
A14: 6 | H14: =IF(F14="包括単価",23370,IF(F14="回数単価",5080*G14,"")) | I14: =IF(SUM(F14:H14)=0,"",SUM(F14:H14))
A15: 7 | H15: =IF(F15="包括単価",23370,IF(F15="回数単価",5080*G15,"")) | I15: =IF(SUM(F15:H15)=0,"",SUM(F15:H15))
A16: 8 | H16: =IF(F16="包括単価",23370,IF(F16="回数単価",5080*G16,"")) | I16: =IF(SUM(F16:H16)=0,"",SUM(F16:H16))
A17: 9 | H17: =IF(F17="包括単価",23370,IF(F17="回数単価",5080*G17,"")) | I17: =IF(SUM(F17:H17)=0,"",SUM(F17:H17))
A18: 10 | H18: =IF(F18="包括単価",23370,IF(F18="回数単価",5080*G18,"")) | I18: =IF(SUM(F18:H18)=0,"",SUM(F18:H18))
A19: 11 | H19: =IF(F19="包括単価",23370,IF(F19="回数単価",5080*G19,"")) | I19: =IF(SUM(F19:H19)=0,"",SUM(F19:H19))
A20: 12 | H20: =IF(F20="包括単価",23370,IF(F20="回数単価",5080*G20,"")) | I20: =IF(SUM(F20:H20)=0,"",SUM(F20:H20))
A21: 13 | H21: =IF(F21="包括単価",23370,IF(F21="回数単価",5080*G21,"")) | I21: =IF(SUM(F21:H21)=0,"",SUM(F21:H21))
A22: 14 | H22: =IF(F22="包括単価",23370,IF(F22="回数単価",5080*G22,"")) | I22: =IF(SUM(F22:H22)=0,"",SUM(F22:H22))
A23: 15 | H23: =IF(F23="包括単価",23370,IF(F23="回数単価",5080*G23,"")) | I23: =IF(SUM(F23:H23)=0,"",SUM(F23:H23))
... A38: 30 | H38: =IF(F38="包括単価",23370,IF(F38="回数単価",5080*G38,"")) | I38: =IF(SUM(F38:H38)=0,"",SUM(F38:H38))
C39: 計 | H39: =SUM(H9:H38) -> 33530
